BEGIN:VCALENDAR
VERSION:2.0
PRODID:-//Vektor Shooting Club - ECPv5.9.1//NONSGML v1.0//EN
CALSCALE:GREGORIAN
METHOD:PUBLISH
X-WR-CALNAME:Vektor Shooting Club
X-ORIGINAL-URL:http://www.vektor.co.za
X-WR-CALDESC:Events for Vektor Shooting Club
BEGIN:VTIMEZONE
TZID:Europe/Helsinki
BEGIN:DAYLIGHT
TZOFFSETFROM:+0200
TZOFFSETTO:+0300
TZNAME:EEST
DTSTART:20240331T010000
END:DAYLIGHT
BEGIN:STANDARD
TZOFFSETFROM:+0300
TZOFFSETTO:+0200
TZNAME:EET
DTSTART:20241027T010000
END:STANDARD
END:VTIMEZONE
BEGIN:VEVENT
DTSTART;TZID=Europe/Helsinki:20241019T080000
DTEND;TZID=Europe/Helsinki:20241019T160000
DTSTAMP:20260423T235739
CREATED:20240923T090528Z
LAST-MODIFIED:20240923T090734Z
UID:9656-1729324800-1729353600@www.vektor.co.za
SUMMARY:Shotgun Club Shoot - Oct 2024
DESCRIPTION:The Shotgun Club Shoot – October 2024 will be held at Vektor Shooting Club on 2024-10-19. Registration for this match will be on Practiscore here : Vektor Shotgun Club Shoot 10-2024 Registration | PractiScore
URL:http://www.vektor.co.za/event/shotgun-club-shoot-oct-2024-2/
END:VEVENT
END:VCALENDAR