BEGIN:VCALENDAR
VERSION:2.0
PRODID:-//Vektor Shooting Club - ECPv5.9.1//NONSGML v1.0//EN
CALSCALE:GREGORIAN
METHOD:PUBLISH
X-WR-CALNAME:Vektor Shooting Club
X-ORIGINAL-URL:http://www.vektor.co.za
X-WR-CALDESC:Events for Vektor Shooting Club
BEGIN:VTIMEZONE
TZID:Europe/Helsinki
BEGIN:DAYLIGHT
TZOFFSETFROM:+0200
TZOFFSETTO:+0300
TZNAME:EEST
DTSTART:20250330T010000
END:DAYLIGHT
BEGIN:STANDARD
TZOFFSETFROM:+0300
TZOFFSETTO:+0200
TZNAME:EET
DTSTART:20251026T010000
END:STANDARD
END:VTIMEZONE
BEGIN:VEVENT
DTSTART;TZID=Europe/Helsinki:20250517T080000
DTEND;TZID=Europe/Helsinki:20250517T160000
DTSTAMP:20260423T163134
CREATED:20250104T134335Z
LAST-MODIFIED:20250104T134335Z
UID:9710-1747468800-1747497600@www.vektor.co.za
SUMMARY:Shotgun Club Shoot - May 2025
DESCRIPTION:The Shotgun Club Shoot – May 2025 will be held at Vektor Shooting Club on 2025-05-17. Registration for this match will be on Practiscore here : Vektor Shotgun Club Shoot May 2025 Registration | PractiScore
URL:http://www.vektor.co.za/event/shotgun-club-shoot-may-2025/
END:VEVENT
END:VCALENDAR