BEGIN:VCALENDAR
VERSION:2.0
PRODID:-//Vektor Shooting Club - ECPv5.9.1//NONSGML v1.0//EN
CALSCALE:GREGORIAN
METHOD:PUBLISH
X-WR-CALNAME:Vektor Shooting Club
X-ORIGINAL-URL:http://www.vektor.co.za
X-WR-CALDESC:Events for Vektor Shooting Club
BEGIN:VTIMEZONE
TZID:Europe/Helsinki
BEGIN:DAYLIGHT
TZOFFSETFROM:+0200
TZOFFSETTO:+0300
TZNAME:EEST
DTSTART:20260329T010000
END:DAYLIGHT
BEGIN:STANDARD
TZOFFSETFROM:+0300
TZOFFSETTO:+0200
TZNAME:EET
DTSTART:20261025T010000
END:STANDARD
END:VTIMEZONE
BEGIN:VEVENT
DTSTART;TZID=Europe/Helsinki:20260221T080000
DTEND;TZID=Europe/Helsinki:20260221T160000
DTSTAMP:20260419T191232
CREATED:20251224T131818Z
LAST-MODIFIED:20251224T133043Z
UID:9802-1771660800-1771689600@www.vektor.co.za
SUMMARY:Rifle & PCC Club Shoot - Feb 2026
DESCRIPTION:The Rifle & PCC Club Shoot – February 2026  will be held at Vektor Shooting Club on 2026-02-21. Registration for this match will be on Practiscore here : https://practiscore.com/vektor-rifle-and-pcc-club-shoot-feb-2026/register
URL:http://www.vektor.co.za/event/rifle-pcc-club-shoot-feb-2026/
END:VEVENT
END:VCALENDAR