BEGIN:VCALENDAR
VERSION:2.0
PRODID:-//Vektor Shooting Club - ECPv5.9.1//NONSGML v1.0//EN
CALSCALE:GREGORIAN
METHOD:PUBLISH
X-WR-CALNAME:Vektor Shooting Club
X-ORIGINAL-URL:http://www.vektor.co.za
X-WR-CALDESC:Events for Vektor Shooting Club
BEGIN:VTIMEZONE
TZID:Europe/Helsinki
BEGIN:DAYLIGHT
TZOFFSETFROM:+0200
TZOFFSETTO:+0300
TZNAME:EEST
DTSTART:20250330T010000
END:DAYLIGHT
BEGIN:STANDARD
TZOFFSETFROM:+0300
TZOFFSETTO:+0200
TZNAME:EET
DTSTART:20251026T010000
END:STANDARD
END:VTIMEZONE
BEGIN:VEVENT
DTSTART;TZID=Europe/Helsinki:20251101T080000
DTEND;TZID=Europe/Helsinki:20251101T160000
DTSTAMP:20260421T164023
CREATED:20250623T164216Z
LAST-MODIFIED:20250623T164216Z
UID:9757-1761984000-1762012800@www.vektor.co.za
SUMMARY:Handgun Club Shoot - Nov 2025
DESCRIPTION:The Handgun Club Shoot – November 2025 will be held at Vektor Shooting Club on 2025-11-01. Registration for this match will be on Practiscore here : https://practiscore.com/vektor-handgun-club-shoot-november-2025-self-defence/register   \n 
URL:http://www.vektor.co.za/event/handgun-club-shoot-nov-2025/
END:VEVENT
END:VCALENDAR