BEGIN:VCALENDAR
VERSION:2.0
PRODID:-//Vektor Shooting Club - ECPv5.9.1//NONSGML v1.0//EN
CALSCALE:GREGORIAN
METHOD:PUBLISH
X-WR-CALNAME:Vektor Shooting Club
X-ORIGINAL-URL:http://www.vektor.co.za
X-WR-CALDESC:Events for Vektor Shooting Club
BEGIN:VTIMEZONE
TZID:Europe/Helsinki
BEGIN:DAYLIGHT
TZOFFSETFROM:+0200
TZOFFSETTO:+0300
TZNAME:EEST
DTSTART:20260329T010000
END:DAYLIGHT
BEGIN:STANDARD
TZOFFSETFROM:+0300
TZOFFSETTO:+0200
TZNAME:EET
DTSTART:20261025T010000
END:STANDARD
END:VTIMEZONE
BEGIN:VEVENT
DTSTART;TZID=Europe/Helsinki:20260307T080000
DTEND;TZID=Europe/Helsinki:20260307T160000
DTSTAMP:20260419T172605
CREATED:20251224T131543Z
LAST-MODIFIED:20251224T132114Z
UID:9799-1772870400-1772899200@www.vektor.co.za
SUMMARY:Handgun Club Shoot - March 2026
DESCRIPTION:The Handgun Club Shoot – March 2026 will be held at Vektor Shooting Club on 2026-03-07. Registration for this match will be on Practiscore here : https://practiscore.com/vektor-handgun-and-pcc-club-shoot-march-2026/register \n 
URL:http://www.vektor.co.za/event/handgun-club-shoot-march-2026-2/
END:VEVENT
END:VCALENDAR