BEGIN:VCALENDAR
VERSION:2.0
PRODID:-//Vektor Shooting Club - ECPv5.9.1//NONSGML v1.0//EN
CALSCALE:GREGORIAN
METHOD:PUBLISH
X-WR-CALNAME:Vektor Shooting Club
X-ORIGINAL-URL:http://www.vektor.co.za
X-WR-CALDESC:Events for Vektor Shooting Club
BEGIN:VTIMEZONE
TZID:Europe/Helsinki
BEGIN:DAYLIGHT
TZOFFSETFROM:+0200
TZOFFSETTO:+0300
TZNAME:EEST
DTSTART:20250330T010000
END:DAYLIGHT
BEGIN:STANDARD
TZOFFSETFROM:+0300
TZOFFSETTO:+0200
TZNAME:EET
DTSTART:20251026T010000
END:STANDARD
END:VTIMEZONE
BEGIN:VEVENT
DTSTART;TZID=Europe/Helsinki:20250802T080000
DTEND;TZID=Europe/Helsinki:20250802T160000
DTSTAMP:20260423T130854
CREATED:20250623T162337Z
LAST-MODIFIED:20250623T163511Z
UID:9744-1754121600-1754150400@www.vektor.co.za
SUMMARY:Handgun Club Shoot - August 2025
DESCRIPTION:The Handgun Club Shoot – Aug 2025 will be held at Vektor Shooting Club on 2025-08-02. Registration for this match will be on Practiscore here : https://practiscore.com/vektor-handgun-and-pcc-club-shoot-august-2025/register \n 
URL:http://www.vektor.co.za/event/handgun-club-shoot-aug-2025/
END:VEVENT
END:VCALENDAR