BEGIN:VCALENDAR
VERSION:2.0
PRODID:-//Vektor Shooting Club - ECPv5.9.1//NONSGML v1.0//EN
CALSCALE:GREGORIAN
METHOD:PUBLISH
X-WR-CALNAME:Vektor Shooting Club
X-ORIGINAL-URL:http://www.vektor.co.za
X-WR-CALDESC:Events for Vektor Shooting Club
BEGIN:VTIMEZONE
TZID:Europe/Helsinki
BEGIN:DAYLIGHT
TZOFFSETFROM:+0200
TZOFFSETTO:+0300
TZNAME:EEST
DTSTART:20260329T010000
END:DAYLIGHT
BEGIN:STANDARD
TZOFFSETFROM:+0300
TZOFFSETTO:+0200
TZNAME:EET
DTSTART:20261025T010000
END:STANDARD
END:VTIMEZONE
BEGIN:VEVENT
DTSTART;TZID=Europe/Helsinki:20260404T080000
DTEND;TZID=Europe/Helsinki:20260404T160000
DTSTAMP:20260419T155247
CREATED:20251224T133855Z
LAST-MODIFIED:20251224T133855Z
UID:9810-1775289600-1775318400@www.vektor.co.za
SUMMARY:Handgun Club Shoot - April 2026
DESCRIPTION:The Handgun Club Shoot – April 2026 will be held at Vektor Shooting Club on 2026-04-04. Registration for this match will be on Practiscore here : https://practiscore.com/vektor-handgun-and-pcc-club-shoot-april-2026/register \n 
URL:http://www.vektor.co.za/event/handgun-club-shoot-april-2026/
END:VEVENT
END:VCALENDAR